BEGIN:VCALENDAR
VERSION:2.0
PRODID:-//wp-events-plugin.com//7.2//EN
BEGIN:VEVENT
UID:13@dev.thedarlcenter.com
DTSTART;TZID=America/New_York:20250314T000000
DTEND;TZID=America/New_York:20250316T000000
DTSTAMP:20251014T143625Z
URL:https://dev.thedarlcenter.com/events/2025-fiber-arts-festival/
SUMMARY:2025 Fiber Arts Festival
DESCRIPTION:Exhibit\, Open to Public
ATTACH;FMTTYPE=image/jpeg:https://dev.thedarlcenter.com/wp-content/uploads
 /2025/10/2025-fiber-arts-thumbnail.webp
CATEGORIES:Event
END:VEVENT
BEGIN:VTIMEZONE
TZID:America/New_York
X-LIC-LOCATION:America/New_York
BEGIN:DAYLIGHT
DTSTART:20250309T030000
TZOFFSETFROM:-0500
TZOFFSETTO:-0400
TZNAME:EDT
END:DAYLIGHT
END:VTIMEZONE
END:VCALENDAR