BEGIN:VCALENDAR
VERSION:2.0
PRODID:-//wp-events-plugin.com//7.2//EN
BEGIN:VEVENT
UID:9@dev.thedarlcenter.com
DTSTART;TZID=America/New_York:20241202T000000
DTEND;TZID=America/New_York:20241219T000000
DTSTAMP:20251007T172950Z
URL:https://dev.thedarlcenter.com/events/aids-quilt/
SUMMARY:AIDS Quilt
DESCRIPTION:Exhibit with Metro Health\, Free
ATTACH;FMTTYPE=image/jpeg:https://dev.thedarlcenter.com/wp-content/uploads
 /2025/09/event-aids-quilt.webp
CATEGORIES:Event
END:VEVENT
BEGIN:VTIMEZONE
TZID:America/New_York
X-LIC-LOCATION:America/New_York
BEGIN:STANDARD
DTSTART:20241103T010000
TZOFFSETFROM:-0400
TZOFFSETTO:-0500
TZNAME:EST
END:STANDARD
END:VTIMEZONE
END:VCALENDAR