BEGIN:VCALENDAR
VERSION:2.0
PRODID:-//wp-events-plugin.com//7.2//EN
BEGIN:VEVENT
UID:11@dev.thedarlcenter.com
DTSTART;TZID=America/New_York:20240201T000000
DTEND;TZID=America/New_York:20240229T000000
DTSTAMP:20251007T173215Z
URL:https://dev.thedarlcenter.com/events/book-launch-blessed-memorial-by-p
 aul-martin/
SUMMARY:Book Launch – “Blessed Memorial” by Paul Martin
DESCRIPTION:Book Launch\, Open to Public
ATTACH;FMTTYPE=image/jpeg:https://dev.thedarlcenter.com/wp-content/uploads
 /2025/09/event-paul-martin-book-THUMBNAIL.webp
CATEGORIES:Event
END:VEVENT
BEGIN:VTIMEZONE
TZID:America/New_York
X-LIC-LOCATION:America/New_York
BEGIN:STANDARD
DTSTART:20231105T010000
TZOFFSETFROM:-0400
TZOFFSETTO:-0500
TZNAME:EST
END:STANDARD
END:VTIMEZONE
END:VCALENDAR