BEGIN:VCALENDAR
VERSION:2.0
PRODID:-//wp-events-plugin.com//7.2//EN
BEGIN:VEVENT
UID:5@dev.thedarlcenter.com
DTSTART;TZID=America/New_York:20250712T160000
DTEND;TZID=America/New_York:20250712T160000
DTSTAMP:20251007T173037Z
URL:https://dev.thedarlcenter.com/events/cleveland-opera/
SUMMARY:Cleveland Opera
DESCRIPTION:Fundraiser Performance\, Free
ATTACH;FMTTYPE=image/jpeg:https://dev.thedarlcenter.com/wp-content/uploads
 /2025/09/event-cleveland-opera.webp
CATEGORIES:Event
END:VEVENT
BEGIN:VTIMEZONE
TZID:America/New_York
X-LIC-LOCATION:America/New_York
BEGIN:DAYLIGHT
DTSTART:20250309T030000
TZOFFSETFROM:-0500
TZOFFSETTO:-0400
TZNAME:EDT
END:DAYLIGHT
END:VTIMEZONE
END:VCALENDAR