BEGIN:VCALENDAR
VERSION:2.0
PRODID:-//wp-events-plugin.com//7.2//EN
BEGIN:VEVENT
UID:6@dev.thedarlcenter.com
DTSTART;TZID=America/New_York:20250601T000000
DTEND;TZID=America/New_York:20250630T000000
DTSTAMP:20251007T173238Z
URL:https://dev.thedarlcenter.com/events/seat-of-your-pants-production/
SUMMARY:Seat of Your Pants Production
DESCRIPTION:World Premiere Play\, Open to Public
ATTACH;FMTTYPE=image/jpeg:https://dev.thedarlcenter.com/wp-content/uploads
 /2025/09/event-seat-of-the-pants-productions.webp
CATEGORIES:Event
END:VEVENT
BEGIN:VTIMEZONE
TZID:America/New_York
X-LIC-LOCATION:America/New_York
BEGIN:DAYLIGHT
DTSTART:20250309T030000
TZOFFSETFROM:-0500
TZOFFSETTO:-0400
TZNAME:EDT
END:DAYLIGHT
END:VTIMEZONE
END:VCALENDAR