BEGIN:VCALENDAR
VERSION:2.0
PRODID:-//wp-events-plugin.com//7.2//EN
BEGIN:VEVENT
UID:4@dev.thedarlcenter.com
DTSTART;TZID=America/New_York:20260301T000000
DTEND;TZID=America/New_York:20260331T000000
DTSTAMP:20250928T182544Z
URL:https://dev.thedarlcenter.com/events/the-2026-fiber-festival-at-the-da
 rl-center-for-the-arts/
SUMMARY:The 2026 Fiber Festival at The Darl Center for the Arts
DESCRIPTION:Where Threads Become Art\, and Art Becomes a Movement\n\nJoin u
 s for an unforgettable celebration of creativity\, texture\, and storytell
 ing at the 2026 Fiber Festival—a vibrant showcase of global fiber artist
 ry\, wearable innovation\, and community connection.\n\nWearable Art Fashi
 on Show\n\nBack by popular demand! Experience the magic of our signature r
 unway event featuring one-of-a-kind fiber creations that defy convention a
 nd dazzle the imagination. Artists from around the world are invited to su
 bmit their most expressive\, boundary-pushing designs.\n\nQuilt &amp\; Fib
 er Art Exhibits\n\nWander through stunning installations that showcase the
  beauty and storytelling power of quilts and textile-based art. From tradi
 tional techniques to contemporary interpretations\, these works honor both
  heritage and bold innovation.\n\nOpening Reception\n\nKick off the festiv
 al in style with a special evening of art\, conversation\, and community. 
 We're thrilled to welcome back celebrated fiber artist David Walker\, with
  other special guests to be announced soon!\n\nWhether you’re a maker\, 
 a mover\, or just mesmerized by the world of fiber art\, you won't want to
  miss this. Let’s weave something beautiful — together.\n\nArtist Subm
 issions\n\nOpen Soon
CATEGORIES:Event
LOCATION:The Darl Center for the Arts\, 5437 Broadway Avenue\, Cleveland\, 
 Ohio\, 44127\, United States
X-APPLE-STRUCTURED-LOCATION;VALUE=URI;X-ADDRESS=5437 Broadway Avenue\, Clev
 eland\, Ohio\, 44127\, United States;X-APPLE-RADIUS=100;X-TITLE=The Darl C
 enter for the Arts:geo:0,0
END:VEVENT
BEGIN:VTIMEZONE
TZID:America/New_York
X-LIC-LOCATION:America/New_York
BEGIN:STANDARD
DTSTART:20251102T010000
TZOFFSETFROM:-0400
TZOFFSETTO:-0500
TZNAME:EST
END:STANDARD
BEGIN:DAYLIGHT
DTSTART:20260308T030000
TZOFFSETFROM:-0500
TZOFFSETTO:-0400
TZNAME:EDT
END:DAYLIGHT
END:VTIMEZONE
END:VCALENDAR